Package: PDATK Version: 1.15.0 Command: /Library/Frameworks/R.framework/Resources/bin/R CMD build --keep-empty-dirs --no-resave-data PDATK StartedAt: 2025-02-20 17:45:33 -0500 (Thu, 20 Feb 2025) EndedAt: 2025-02-20 17:47:47 -0500 (Thu, 20 Feb 2025) EllapsedTime: 134.2 seconds RetCode: 0 Status: OK PackageFile: PDATK_1.15.0.tar.gz PackageFileSize: 3.004 MiB