Package: PDATK Version: 1.15.0 Command: rm -rf PDATK.buildbin-libdir && mkdir PDATK.buildbin-libdir && /Users/biocbuild/BBS/utils/build-universal.sh PDATK_1.15.0.tar.gz /Library/Frameworks/R.framework/Resources/bin/R PDATK.buildbin-libdir StartedAt: 2025-02-21 00:44:59 -0500 (Fri, 21 Feb 2025) EndedAt: 2025-02-21 00:46:02 -0500 (Fri, 21 Feb 2025) EllapsedTime: 62.6 seconds RetCode: 0 Status: OK PackageFile: PDATK_1.15.0.tgz PackageFileSize: 3.874 MiB