Package: PDATK Version: 1.15.0 Command: /Library/Frameworks/R.framework/Resources/bin/R CMD check --install=check:PDATK.install-out.txt --library=/Library/Frameworks/R.framework/Resources/library --no-vignettes --timings PDATK_1.15.0.tar.gz StartedAt: 2025-02-19 20:42:53 -0500 (Wed, 19 Feb 2025) EndedAt: 2025-02-19 20:44:56 -0500 (Wed, 19 Feb 2025) EllapsedTime: 123.6 seconds RetCode: 0 Status: WARNINGS CheckDir: PDATK.Rcheck Warnings: 2