Package: PCAtools Version: 2.19.0 Command: /home/biocbuild/bbs-3.21-bioc/R/bin/R CMD INSTALL PCAtools StartedAt: 2025-02-20 16:07:12 -0500 (Thu, 20 Feb 2025) EndedAt: 2025-02-20 16:07:46 -0500 (Thu, 20 Feb 2025) EllapsedTime: 34.0 seconds RetCode: 0 Status: OK