Package: PCAtools Version: 2.20.0 Command: /home/biocbuild/R/R/bin/R CMD INSTALL PCAtools StartedAt: 2025-10-13 21:13:10 -0000 (Mon, 13 Oct 2025) EndedAt: 2025-10-13 21:14:01 -0000 (Mon, 13 Oct 2025) EllapsedTime: 50.4 seconds RetCode: 0 Status: OK