Package: PCAtools Version: 2.19.0 Command: rm -rf PCAtools.buildbin-libdir && mkdir PCAtools.buildbin-libdir && /Users/biocbuild/BBS/utils/build-universal.sh PCAtools_2.19.0.tar.gz /Library/Frameworks/R.framework/Resources/bin/R PCAtools.buildbin-libdir StartedAt: 2025-02-20 22:29:26 -0500 (Thu, 20 Feb 2025) EndedAt: 2025-02-20 22:29:41 -0500 (Thu, 20 Feb 2025) EllapsedTime: 14.4 seconds RetCode: 0 Status: OK PackageFile: PCAtools_2.19.0.tgz PackageFileSize: 5.951 MiB