Package: PCAtools Version: 2.20.0 Command: /Library/Frameworks/R.framework/Resources/bin/R CMD INSTALL PCAtools StartedAt: 2025-10-13 18:09:55 -0400 (Mon, 13 Oct 2025) EndedAt: 2025-10-13 18:10:32 -0400 (Mon, 13 Oct 2025) EllapsedTime: 36.6 seconds RetCode: 0 Status: OK