Package: PCAN Version: 1.35.0 Command: E:\biocbuild\bbs-3.21-bioc\R\bin\R.exe CMD check --no-multiarch --install=check:PCAN.install-out.txt --library=E:\biocbuild\bbs-3.21-bioc\R\library --no-vignettes --timings PCAN_1.35.0.tar.gz StartedAt: 2025-02-19 03:52:15 -0500 (Wed, 19 Feb 2025) EndedAt: 2025-02-19 03:57:02 -0500 (Wed, 19 Feb 2025) EllapsedTime: 287.2 seconds RetCode: 0 Status: OK CheckDir: PCAN.Rcheck Warnings: 0