Package: PCAN Version: 1.35.0 Command: chmod a+r PCAN -R && E:\biocbuild\bbs-3.21-bioc\R\bin\R.exe CMD build --keep-empty-dirs --no-resave-data PCAN StartedAt: 2025-02-18 20:35:49 -0500 (Tue, 18 Feb 2025) EndedAt: 2025-02-18 20:38:00 -0500 (Tue, 18 Feb 2025) EllapsedTime: 130.9 seconds RetCode: 0 Status: OK PackageFile: PCAN_1.35.0.tar.gz PackageFileSize: 2.177 MiB