Package: PCAN Version: 1.35.0 Command: /home/biocbuild/bbs-3.21-bioc/R/bin/R CMD INSTALL PCAN StartedAt: 2025-02-18 15:03:57 -0500 (Tue, 18 Feb 2025) EndedAt: 2025-02-18 15:04:03 -0500 (Tue, 18 Feb 2025) EllapsedTime: 6.5 seconds RetCode: 0 Status: OK