Package: PCAN Version: 1.35.0 Command: /home/biocbuild/R/R/bin/R CMD INSTALL PCAN StartedAt: 2025-01-29 19:44:50 -0000 (Wed, 29 Jan 2025) EndedAt: 2025-01-29 19:44:53 -0000 (Wed, 29 Jan 2025) EllapsedTime: 3.1 seconds RetCode: 0 Status: OK