Package: PCAN Version: 1.35.0 Command: /Library/Frameworks/R.framework/Resources/bin/R CMD INSTALL PCAN StartedAt: 2025-02-19 15:07:30 -0500 (Wed, 19 Feb 2025) EndedAt: 2025-02-19 15:07:31 -0500 (Wed, 19 Feb 2025) EllapsedTime: 1.1 seconds RetCode: 0 Status: OK