Package: PCAN Version: 1.35.0 Command: /Library/Frameworks/R.framework/Resources/bin/R CMD build --keep-empty-dirs --no-resave-data PCAN StartedAt: 2025-02-19 17:14:22 -0500 (Wed, 19 Feb 2025) EndedAt: 2025-02-19 17:14:49 -0500 (Wed, 19 Feb 2025) EllapsedTime: 27.3 seconds RetCode: 0 Status: OK PackageFile: PCAN_1.35.0.tar.gz PackageFileSize: 2.565 MiB