Package: PCAN Version: 1.35.0 Maintainer: Matthew Page and Patrice Godard MaintainerEmail: patrice.godard at gmail.com git_url: https://git.bioconductor.org/packages/PCAN git_branch: devel git_last_commit: 71c4483 git_last_commit_date: 2024-10-29 10:08:22 -0500 (Tue, 29 Oct 2024)