Package: PAST Version: 1.23.0 Command: /Library/Frameworks/R.framework/Resources/bin/R CMD check --install=check:PAST.install-out.txt --library=/Library/Frameworks/R.framework/Resources/library --no-vignettes --timings PAST_1.23.0.tar.gz StartedAt: 2025-02-20 22:16:07 -0500 (Thu, 20 Feb 2025) EndedAt: 2025-02-20 22:25:26 -0500 (Thu, 20 Feb 2025) EllapsedTime: 559.4 seconds RetCode: 0 Status: WARNINGS CheckDir: PAST.Rcheck Warnings: 2