Package: PAST Version: 1.23.0 Command: /Library/Frameworks/R.framework/Resources/bin/R CMD INSTALL PAST StartedAt: 2025-02-20 15:08:38 -0500 (Thu, 20 Feb 2025) EndedAt: 2025-02-20 15:08:52 -0500 (Thu, 20 Feb 2025) EllapsedTime: 14.0 seconds RetCode: 0 Status: OK