Package: PAST Version: 1.23.0 Command: /Library/Frameworks/R.framework/Resources/bin/R CMD build --keep-empty-dirs --no-resave-data PAST StartedAt: 2025-02-20 17:12:28 -0500 (Thu, 20 Feb 2025) EndedAt: 2025-02-20 17:13:19 -0500 (Thu, 20 Feb 2025) EllapsedTime: 51.6 seconds RetCode: 0 Status: OK PackageFile: PAST_1.23.0.tar.gz PackageFileSize: 954.4 KiB