Package: PANR Version: 1.53.0 Command: E:\biocbuild\bbs-3.21-bioc\R\bin\R.exe CMD INSTALL PANR StartedAt: 2025-02-20 15:28:44 -0500 (Thu, 20 Feb 2025) EndedAt: 2025-02-20 15:29:08 -0500 (Thu, 20 Feb 2025) EllapsedTime: 24.4 seconds RetCode: 0 Status: OK