Package: PANR Version: 1.53.0 Command: E:\biocbuild\bbs-3.21-bioc\R\bin\R.exe CMD check --no-multiarch --install=check:PANR.install-out.txt --library=E:\biocbuild\bbs-3.21-bioc\R\library --no-vignettes --timings PANR_1.53.0.tar.gz StartedAt: 2025-02-21 04:13:41 -0500 (Fri, 21 Feb 2025) EndedAt: 2025-02-21 04:15:06 -0500 (Fri, 21 Feb 2025) EllapsedTime: 84.7 seconds RetCode: 0 Status: OK CheckDir: PANR.Rcheck Warnings: 0