Package: PANR Version: 1.53.0 Command: chmod a+r PANR -R && E:\biocbuild\bbs-3.21-bioc\R\bin\R.exe CMD build --keep-empty-dirs --no-resave-data PANR StartedAt: 2025-02-20 20:39:52 -0500 (Thu, 20 Feb 2025) EndedAt: 2025-02-20 20:40:16 -0500 (Thu, 20 Feb 2025) EllapsedTime: 24.1 seconds RetCode: 0 Status: OK PackageFile: PANR_1.53.0.tar.gz PackageFileSize: 1.982 MiB