Package: PANR Version: 1.53.0 Command: rm -rf PANR.buildbin-libdir && mkdir PANR.buildbin-libdir && E:\biocbuild\bbs-3.21-bioc\R\bin\R.exe CMD INSTALL --build --library=PANR.buildbin-libdir PANR_1.53.0.tar.gz StartedAt: 2025-02-21 08:44:05 -0500 (Fri, 21 Feb 2025) EndedAt: 2025-02-21 08:44:25 -0500 (Fri, 21 Feb 2025) EllapsedTime: 20.2 seconds RetCode: 0 Status: OK PackageFile: PANR_1.53.0.zip PackageFileSize: 2.008 MiB