Package: PANR Version: 1.53.0 Command: /home/biocbuild/bbs-3.21-bioc/R/bin/R CMD INSTALL PANR StartedAt: 2025-02-20 15:08:50 -0500 (Thu, 20 Feb 2025) EndedAt: 2025-02-20 15:08:57 -0500 (Thu, 20 Feb 2025) EllapsedTime: 8.0 seconds RetCode: 0 Status: OK