Package: PANR Version: 1.53.0 Command: /home/biocbuild/bbs-3.21-bioc/R/bin/R CMD check --install=check:PANR.install-out.txt --library=/home/biocbuild/bbs-3.21-bioc/R/site-library --timings PANR_1.53.0.tar.gz StartedAt: 2025-02-21 00:31:30 -0500 (Fri, 21 Feb 2025) EndedAt: 2025-02-21 00:32:20 -0500 (Fri, 21 Feb 2025) EllapsedTime: 50.1 seconds RetCode: 0 Status: OK CheckDir: PANR.Rcheck Warnings: 0