Package: PANR Version: 1.53.0 Command: /Library/Frameworks/R.framework/Resources/bin/R CMD build --keep-empty-dirs --no-resave-data PANR StartedAt: 2025-02-20 17:43:21 -0500 (Thu, 20 Feb 2025) EndedAt: 2025-02-20 17:44:22 -0500 (Thu, 20 Feb 2025) EllapsedTime: 60.8 seconds RetCode: 0 Status: OK PackageFile: PANR_1.53.0.tar.gz PackageFileSize: 2.112 MiB