Package: PANR Version: 1.53.0 Command: /Library/Frameworks/R.framework/Resources/bin/R CMD INSTALL PANR StartedAt: 2025-02-20 15:05:38 -0500 (Thu, 20 Feb 2025) EndedAt: 2025-02-20 15:05:41 -0500 (Thu, 20 Feb 2025) EllapsedTime: 3.1 seconds RetCode: 0 Status: OK