Package: PANR Version: 1.53.0 Command: /Library/Frameworks/R.framework/Resources/bin/R CMD check --install=check:PANR.install-out.txt --library=/Library/Frameworks/R.framework/Resources/library --no-vignettes --timings PANR_1.53.0.tar.gz StartedAt: 2025-02-20 20:38:53 -0500 (Thu, 20 Feb 2025) EndedAt: 2025-02-20 20:39:13 -0500 (Thu, 20 Feb 2025) EllapsedTime: 20.3 seconds RetCode: 0 Status: OK CheckDir: PANR.Rcheck Warnings: 0