Package: PANR Version: 1.53.0 Command: rm -rf PANR.buildbin-libdir && mkdir PANR.buildbin-libdir && /Users/biocbuild/BBS/utils/build-universal.sh PANR_1.53.0.tar.gz /Library/Frameworks/R.framework/Resources/bin/R PANR.buildbin-libdir StartedAt: 2025-02-20 22:29:16 -0500 (Thu, 20 Feb 2025) EndedAt: 2025-02-20 22:29:20 -0500 (Thu, 20 Feb 2025) EllapsedTime: 4.1 seconds RetCode: 0 Status: OK PackageFile: PANR_1.53.0.tgz PackageFileSize: 2.138 MiB