Package: PAIRADISE Version: 1.23.0 Command: E:\biocbuild\bbs-3.21-bioc\R\bin\R.exe CMD check --no-multiarch --install=check:PAIRADISE.install-out.txt --library=E:\biocbuild\bbs-3.21-bioc\R\library --no-vignettes --timings PAIRADISE_1.23.0.tar.gz StartedAt: 2025-02-21 04:10:47 -0500 (Fri, 21 Feb 2025) EndedAt: 2025-02-21 04:15:02 -0500 (Fri, 21 Feb 2025) EllapsedTime: 254.2 seconds RetCode: 0 Status: OK CheckDir: PAIRADISE.Rcheck Warnings: 0