Package: PAIRADISE Version: 1.23.0 Command: /home/biocbuild/bbs-3.21-bioc/R/bin/R CMD check --install=check:PAIRADISE.install-out.txt --library=/home/biocbuild/bbs-3.21-bioc/R/site-library --timings PAIRADISE_1.23.0.tar.gz StartedAt: 2025-02-20 00:58:28 -0500 (Thu, 20 Feb 2025) EndedAt: 2025-02-20 01:03:26 -0500 (Thu, 20 Feb 2025) EllapsedTime: 298.7 seconds RetCode: 0 Status: OK CheckDir: PAIRADISE.Rcheck Warnings: 0