Package: PAIRADISE Version: 1.23.0 Command: /Library/Frameworks/R.framework/Resources/bin/R CMD check --install=check:PAIRADISE.install-out.txt --library=/Library/Frameworks/R.framework/Resources/library --no-vignettes --timings PAIRADISE_1.23.0.tar.gz StartedAt: 2025-02-20 20:37:43 -0500 (Thu, 20 Feb 2025) EndedAt: 2025-02-20 20:38:51 -0500 (Thu, 20 Feb 2025) EllapsedTime: 68.8 seconds RetCode: 0 Status: OK CheckDir: PAIRADISE.Rcheck Warnings: 0