Package: PAIRADISE Version: 1.23.0 Command: rm -rf PAIRADISE.buildbin-libdir && mkdir PAIRADISE.buildbin-libdir && /Users/biocbuild/BBS/utils/build-universal.sh PAIRADISE_1.23.0.tar.gz /Library/Frameworks/R.framework/Resources/bin/R PAIRADISE.buildbin-libdir StartedAt: 2025-02-20 22:29:11 -0500 (Thu, 20 Feb 2025) EndedAt: 2025-02-20 22:29:20 -0500 (Thu, 20 Feb 2025) EllapsedTime: 9.2 seconds RetCode: 0 Status: OK PackageFile: PAIRADISE_1.23.0.tgz PackageFileSize: 383 KiB