Package: PADOG Version: 1.49.4 Command: /Library/Frameworks/R.framework/Resources/bin/R CMD check --install=check:PADOG.install-out.txt --library=/Library/Frameworks/R.framework/Resources/library --no-vignettes --timings PADOG_1.49.4.tar.gz StartedAt: 2025-02-20 22:12:25 -0500 (Thu, 20 Feb 2025) EndedAt: 2025-02-20 22:18:04 -0500 (Thu, 20 Feb 2025) EllapsedTime: 339.2 seconds RetCode: 0 Status: OK CheckDir: PADOG.Rcheck Warnings: 0