Package: PADOG Version: 1.49.4 Command: /Library/Frameworks/R.framework/Resources/bin/R CMD build --keep-empty-dirs --no-resave-data PADOG StartedAt: 2025-02-20 17:42:06 -0500 (Thu, 20 Feb 2025) EndedAt: 2025-02-20 17:45:57 -0500 (Thu, 20 Feb 2025) EllapsedTime: 231.0 seconds RetCode: 0 Status: OK PackageFile: PADOG_1.49.4.tar.gz PackageFileSize: 369 KiB