Package: PADOG Version: 1.49.4 Command: /Library/Frameworks/R.framework/Resources/bin/R CMD INSTALL PADOG StartedAt: 2025-02-20 15:12:40 -0500 (Thu, 20 Feb 2025) EndedAt: 2025-02-20 15:12:45 -0500 (Thu, 20 Feb 2025) EllapsedTime: 5.4 seconds RetCode: 0 Status: OK