Package: PADOG Version: 1.49.4 Command: rm -rf PADOG.buildbin-libdir && mkdir PADOG.buildbin-libdir && /Users/biocbuild/BBS/utils/build-universal.sh PADOG_1.49.4.tar.gz /Library/Frameworks/R.framework/Resources/bin/R PADOG.buildbin-libdir StartedAt: 2025-02-20 22:29:09 -0500 (Thu, 20 Feb 2025) EndedAt: 2025-02-20 22:29:16 -0500 (Thu, 20 Feb 2025) EllapsedTime: 7.2 seconds RetCode: 0 Status: OK PackageFile: PADOG_1.49.4.tgz PackageFileSize: 400.1 KiB