Package: PAA Version: 1.41.0 Command: E:\biocbuild\bbs-3.21-bioc\R\bin\R.exe CMD INSTALL PAA StartedAt: 2025-02-17 15:57:36 -0500 (Mon, 17 Feb 2025) EndedAt: 2025-02-17 15:58:35 -0500 (Mon, 17 Feb 2025) EllapsedTime: 59.0 seconds RetCode: 0 Status: OK