Package: PAA Version: 1.41.0 Command: chmod a+r PAA -R && E:\biocbuild\bbs-3.21-bioc\R\bin\R.exe CMD build --keep-empty-dirs --no-resave-data PAA StartedAt: 2025-02-17 20:25:34 -0500 (Mon, 17 Feb 2025) EndedAt: 2025-02-17 20:37:03 -0500 (Mon, 17 Feb 2025) EllapsedTime: 688.6 seconds RetCode: 0 Status: OK PackageFile: PAA_1.41.0.tar.gz PackageFileSize: 2.834 MiB