Package: PAA Version: 1.41.0 Command: rm -rf PAA.buildbin-libdir && mkdir PAA.buildbin-libdir && E:\biocbuild\bbs-3.21-bioc\R\bin\R.exe CMD INSTALL --build --library=PAA.buildbin-libdir PAA_1.41.0.tar.gz StartedAt: 2025-02-18 07:56:20 -0500 (Tue, 18 Feb 2025) EndedAt: 2025-02-18 07:57:08 -0500 (Tue, 18 Feb 2025) EllapsedTime: 47.4 seconds RetCode: 0 Status: OK PackageFile: PAA_1.41.0.zip PackageFileSize: 3.387 MiB