Package: PAA Version: 1.41.0 Command: rm -rf PAA.buildbin-libdir && mkdir PAA.buildbin-libdir && /Users/biocbuild/BBS/utils/build-universal.sh PAA_1.41.0.tar.gz /Library/Frameworks/R.framework/Resources/bin/R PAA.buildbin-libdir StartedAt: 2025-02-17 22:27:38 -0500 (Mon, 17 Feb 2025) EndedAt: 2025-02-17 22:27:53 -0500 (Mon, 17 Feb 2025) EllapsedTime: 15.3 seconds RetCode: 0 Status: OK PackageFile: PAA_1.41.0.tgz PackageFileSize: 3.99 MiB