Package: OutSplice Version: 1.7.1 Command: E:\biocbuild\bbs-3.21-bioc\R\bin\R.exe CMD INSTALL OutSplice StartedAt: 2025-02-19 16:09:59 -0500 (Wed, 19 Feb 2025) EndedAt: 2025-02-19 16:10:39 -0500 (Wed, 19 Feb 2025) EllapsedTime: 40.8 seconds RetCode: 0 Status: OK