Package: OutSplice Version: 1.7.1 Command: E:\biocbuild\bbs-3.21-bioc\R\bin\R.exe CMD check --no-multiarch --install=check:OutSplice.install-out.txt --library=E:\biocbuild\bbs-3.21-bioc\R\library --no-vignettes --timings OutSplice_1.7.1.tar.gz StartedAt: 2025-02-19 03:46:14 -0500 (Wed, 19 Feb 2025) EndedAt: 2025-02-19 03:52:58 -0500 (Wed, 19 Feb 2025) EllapsedTime: 403.3 seconds RetCode: 0 Status: OK CheckDir: OutSplice.Rcheck Warnings: 0