Package: OutSplice Version: 1.7.1 Command: rm -rf OutSplice.buildbin-libdir && mkdir OutSplice.buildbin-libdir && E:\biocbuild\bbs-3.21-bioc\R\bin\R.exe CMD INSTALL --build --library=OutSplice.buildbin-libdir OutSplice_1.7.1.tar.gz StartedAt: 2025-02-19 08:02:11 -0500 (Wed, 19 Feb 2025) EndedAt: 2025-02-19 08:02:53 -0500 (Wed, 19 Feb 2025) EllapsedTime: 41.5 seconds RetCode: 0 Status: OK PackageFile: OutSplice_1.7.1.zip PackageFileSize: 3.908 MiB