Package: OutSplice Version: 1.7.1 Command: /home/biocbuild/bbs-3.21-bioc/R/bin/R CMD INSTALL OutSplice StartedAt: 2025-02-19 15:56:52 -0500 (Wed, 19 Feb 2025) EndedAt: 2025-02-19 15:57:27 -0500 (Wed, 19 Feb 2025) EllapsedTime: 34.2 seconds RetCode: 0 Status: OK