Package: OutSplice Version: 1.7.1 Command: /home/biocbuild/bbs-3.21-bioc/R/bin/R CMD check --install=check:OutSplice.install-out.txt --library=/home/biocbuild/bbs-3.21-bioc/R/site-library --timings OutSplice_1.7.1.tar.gz StartedAt: 2025-02-20 00:55:15 -0500 (Thu, 20 Feb 2025) EndedAt: 2025-02-20 01:04:27 -0500 (Thu, 20 Feb 2025) EllapsedTime: 552.1 seconds RetCode: 0 Status: OK CheckDir: OutSplice.Rcheck Warnings: 0