Package: OutSplice Version: 1.7.1 Command: /Library/Frameworks/R.framework/Resources/bin/R CMD INSTALL OutSplice StartedAt: 2025-02-19 15:22:16 -0500 (Wed, 19 Feb 2025) EndedAt: 2025-02-19 15:23:01 -0500 (Wed, 19 Feb 2025) EllapsedTime: 45.1 seconds RetCode: 0 Status: OK