Package: Oscope Version: 1.37.0 Command: E:\biocbuild\bbs-3.21-bioc\R\bin\R.exe CMD INSTALL Oscope StartedAt: 2025-02-19 16:27:09 -0500 (Wed, 19 Feb 2025) EndedAt: 2025-02-19 16:27:27 -0500 (Wed, 19 Feb 2025) EllapsedTime: 18.4 seconds RetCode: 0 Status: OK