Package: Oscope Version: 1.37.0 Command: rm -rf Oscope.buildbin-libdir && mkdir Oscope.buildbin-libdir && E:\biocbuild\bbs-3.21-bioc\R\bin\R.exe CMD INSTALL --build --library=Oscope.buildbin-libdir Oscope_1.37.0.tar.gz StartedAt: 2025-02-20 08:22:27 -0500 (Thu, 20 Feb 2025) EndedAt: 2025-02-20 08:22:49 -0500 (Thu, 20 Feb 2025) EllapsedTime: 22.2 seconds RetCode: 0 Status: OK PackageFile: Oscope_1.37.0.zip PackageFileSize: 855.5 KiB