Package: Oscope Version: 1.37.0 Command: /home/biocbuild/bbs-3.21-bioc/R/bin/R CMD INSTALL Oscope StartedAt: 2025-02-19 15:11:05 -0500 (Wed, 19 Feb 2025) EndedAt: 2025-02-19 15:11:17 -0500 (Wed, 19 Feb 2025) EllapsedTime: 12.2 seconds RetCode: 0 Status: OK