Package: Oscope Version: 1.37.0 Command: /home/biocbuild/R/R/bin/R CMD INSTALL Oscope StartedAt: 2025-01-29 20:14:48 -0000 (Wed, 29 Jan 2025) EndedAt: 2025-01-29 20:14:57 -0000 (Wed, 29 Jan 2025) EllapsedTime: 9.1 seconds RetCode: 0 Status: OK