Package: OrganismDbi Version: 1.49.0 Command: E:\biocbuild\bbs-3.21-bioc\R\bin\R.exe CMD INSTALL OrganismDbi StartedAt: 2025-02-20 16:21:19 -0500 (Thu, 20 Feb 2025) EndedAt: 2025-02-20 16:22:38 -0500 (Thu, 20 Feb 2025) EllapsedTime: 79.0 seconds RetCode: 0 Status: OK